BEGIN:VCALENDAR
VERSION:2.0
PRODID:-//ChamberMaster//Event Calendar 2.0//EN
METHOD:PUBLISH
X-PUBLISHED-TTL:P3D
REFRESH-INTERVAL:P3D
CALSCALE:GREGORIAN
BEGIN:VEVENT
DTSTART:20200917T230000Z
DTEND:20200918T000000Z
X-MICROSOFT-CDO-ALLDAYEVENT:FALSE
SUMMARY:Happy Hour Networking
DESCRIPTION:Grab a beverage and join us for networking and socializing at our first "Happy Hour Networking". Tepeyac Restaurant and Tequilla Sports Bar will be our special guest and will teach us how to make a special cocktail!  End your day with a relaxing and productive networking event.
X-ALT-DESC;FMTTYPE=text/html:Grab a beverage and join us for networking and socializing at our first &quot\;Happy Hour Networking&quot\;. Tepeyac Restaurant and Tequilla Sports Bar will be our special guest and will teach us how to make a special cocktail! &nbsp\;End your day with a relaxing and productive networking event.<br />\n<br />\n&nbsp\;
LOCATION:via Zoom
UID:e.623.7776
SEQUENCE:3
DTSTAMP:20260424T201258Z
URL:http://santafespringschamber.chambermaster.com/events/details/happy-hour-networking-7776
END:VEVENT

END:VCALENDAR
